BEGIN:VCALENDAR
VERSION:2.0
PRODID:-//Veteran Nonprofit Organization - ECPv6.15.19//NONSGML v1.0//EN
CALSCALE:GREGORIAN
METHOD:PUBLISH
X-WR-CALNAME:Veteran Nonprofit Organization
X-ORIGINAL-URL:https://bvsj.org
X-WR-CALDESC:Events for Veteran Nonprofit Organization
REFRESH-INTERVAL;VALUE=DURATION:PT1H
X-Robots-Tag:noindex
X-PUBLISHED-TTL:PT1H
BEGIN:VTIMEZONE
TZID:UTC
BEGIN:STANDARD
TZOFFSETFROM:+0000
TZOFFSETTO:+0000
TZNAME:UTC
DTSTART:20250101T000000
END:STANDARD
END:VTIMEZONE
BEGIN:VEVENT
DTSTART;TZID=UTC:20260221T000000
DTEND;TZID=UTC:20260221T000000
DTSTAMP:20260423T165407
CREATED:20260113T102222Z
LAST-MODIFIED:20260114T132356Z
UID:9895-1771632000-1771632000@bvsj.org
SUMMARY:BE HISTORIC-THE LIVE EXPERIENCE
DESCRIPTION:
URL:https://bvsj.org/event/be-historic-the-live-experience/
CATEGORIES:BVSJ Event
ATTACH;FMTTYPE=image/png:https://bvsj.org/wp-content/uploads/2026/01/Be-Historic.png
END:VEVENT
END:VCALENDAR