BEGIN:VCALENDAR
VERSION:2.0
PRODID:-//Veteran Nonprofit Organization - ECPv6.15.19//NONSGML v1.0//EN
CALSCALE:GREGORIAN
METHOD:PUBLISH
X-WR-CALNAME:Veteran Nonprofit Organization
X-ORIGINAL-URL:https://bvsj.org
X-WR-CALDESC:Events for Veteran Nonprofit Organization
REFRESH-INTERVAL;VALUE=DURATION:PT1H
X-Robots-Tag:noindex
X-PUBLISHED-TTL:PT1H
BEGIN:VTIMEZONE
TZID:UTC
BEGIN:STANDARD
TZOFFSETFROM:+0000
TZOFFSETTO:+0000
TZNAME:UTC
DTSTART:20240101T000000
END:STANDARD
END:VTIMEZONE
BEGIN:VEVENT
DTSTART;TZID=UTC:20250719T190000
DTEND;TZID=UTC:20250719T190000
DTSTAMP:20260423T173907
CREATED:20250519T151248Z
LAST-MODIFIED:20250519T152709Z
UID:9378-1752951600-1752951600@bvsj.org
SUMMARY:Black Veterans For Social Justice 46th Anniversary
DESCRIPTION:
URL:https://bvsj.org/event/black-veterans-for-social-justice-46th-anniversary/
LOCATION:96-43 SPRINGFIELD BLVD\, QUEENS VILLAGE\, NY 11429\, 96-43 SPRINGFIELD BLVD\, QUEENS VILLAGE\, NY 11429\, NY\, United States
CATEGORIES:BVSJ Event
ATTACH;FMTTYPE=application/pdf:https://bvsj.org/wp-content/uploads/2025/05/46gala.pdf.pdf
END:VEVENT
BEGIN:VEVENT
DTSTART;TZID=UTC:20250719T190000
DTEND;TZID=UTC:20250719T190000
DTSTAMP:20260423T173907
CREATED:20250818T144444Z
LAST-MODIFIED:20250818T144513Z
UID:9508-1752951600-1752951600@bvsj.org
SUMMARY:Join Us for the Veterans Everyday 5K Run/Walk
DESCRIPTION:
URL:https://bvsj.org/event/join-us-for-the-veterans-everyday-5k-run-walk/
LOCATION:96-43 SPRINGFIELD BLVD\, QUEENS VILLAGE\, NY 11429\, 96-43 SPRINGFIELD BLVD\, QUEENS VILLAGE\, NY 11429\, NY\, United States
CATEGORIES:BVSJ Event
ATTACH;FMTTYPE=image/jpeg:https://bvsj.org/wp-content/uploads/2025/08/April-2025-Newsletter-1.jpg
END:VEVENT
END:VCALENDAR