BEGIN:VCALENDAR
VERSION:2.0
PRODID:-//Veteran Nonprofit Organization - ECPv6.15.19//NONSGML v1.0//EN
CALSCALE:GREGORIAN
METHOD:PUBLISH
X-ORIGINAL-URL:https://bvsj.org
X-WR-CALDESC:Events for Veteran Nonprofit Organization
REFRESH-INTERVAL;VALUE=DURATION:PT1H
X-Robots-Tag:noindex
X-PUBLISHED-TTL:PT1H
BEGIN:VTIMEZONE
TZID:UTC
BEGIN:STANDARD
TZOFFSETFROM:+0000
TZOFFSETTO:+0000
TZNAME:UTC
DTSTART:20240101T000000
END:STANDARD
END:VTIMEZONE
BEGIN:VEVENT
DTSTART;VALUE=DATE:20250510
DTEND;VALUE=DATE:20250511
DTSTAMP:20260425T130033
CREATED:20250206T121746Z
LAST-MODIFIED:20250423T180226Z
UID:9219-1746835200-1746921599@bvsj.org
SUMMARY:The Veterans Everyday 5K Run/Walk
DESCRIPTION:
URL:https://bvsj.org/event/the-veterans-everyday-5k-run-walk-celebrates/
CATEGORIES:BVSJ Event
ATTACH;FMTTYPE=image/webp:https://bvsj.org/wp-content/uploads/2025/02/05.10.25-Real-Estate-Flyer-1.webp
END:VEVENT
BEGIN:VEVENT
DTSTART;VALUE=DATE:20250510
DTEND;VALUE=DATE:20250511
DTSTAMP:20260425T130033
CREATED:20250508T155021Z
LAST-MODIFIED:20250508T155021Z
UID:9355-1746835200-1746921599@bvsj.org
SUMMARY:Compliance Hotline
DESCRIPTION:
URL:https://bvsj.org/event/compliance-hotline/
CATEGORIES:BVSJ Event
ATTACH;FMTTYPE=image/jpeg:https://bvsj.org/wp-content/uploads/2025/05/hotline-.jpg
END:VEVENT
BEGIN:VEVENT
DTSTART;TZID=UTC:20250510T083000
DTEND;TZID=UTC:20250510T120000
DTSTAMP:20260425T130033
CREATED:20250508T111013Z
LAST-MODIFIED:20250508T113804Z
UID:9328-1746865800-1746878400@bvsj.org
SUMMARY:Free Health Screenings for Veterans on Race Day
DESCRIPTION:
URL:https://bvsj.org/event/free-health-screenings-for-veterans-on-race-day/
CATEGORIES:BVSJ Event
ATTACH;FMTTYPE=image/png:https://bvsj.org/wp-content/uploads/2025/05/mail.png
END:VEVENT
BEGIN:VEVENT
DTSTART;TZID=UTC:20250520T190000
DTEND;TZID=UTC:20250520T190000
DTSTAMP:20260425T130033
CREATED:20250519T152458Z
LAST-MODIFIED:20250522T110743Z
UID:9384-1747767600-1747767600@bvsj.org
SUMMARY:SECURING AI
DESCRIPTION:
URL:https://bvsj.org/event/securing-ai/
CATEGORIES:BVSJ Event
ATTACH;FMTTYPE=image/jpeg:https://bvsj.org/wp-content/uploads/2025/05/IMG_7241.jpg
END:VEVENT
BEGIN:VEVENT
DTSTART;TZID=UTC:20250526T113000
DTEND;TZID=UTC:20250526T130000
DTSTAMP:20260425T130033
CREATED:20250519T145217Z
LAST-MODIFIED:20250519T151345Z
UID:9374-1748259000-1748264400@bvsj.org
SUMMARY:BVSJ’S MEMORIAL DAY PARADE 2025
DESCRIPTION:
URL:https://bvsj.org/event/bvsis-memorial-day-parade-2025/
LOCATION:RESTORATION PLAZA 1368 FULTON ST. BROOKLYN\, NY\, RESTORATION PLAZA 1368 FULTON ST. BROOKLYN\, NY\, new\, NY\, United States
CATEGORIES:BVSJ Event
ATTACH;FMTTYPE=image/jpeg:https://bvsj.org/wp-content/uploads/2025/05/event-img.jpg
END:VEVENT
END:VCALENDAR