BEGIN:VCALENDAR
VERSION:2.0
PRODID:-//Veteran Nonprofit Organization - ECPv6.15.19//NONSGML v1.0//EN
CALSCALE:GREGORIAN
METHOD:PUBLISH
X-WR-CALNAME:Veteran Nonprofit Organization
X-ORIGINAL-URL:https://bvsj.org
X-WR-CALDESC:Events for Veteran Nonprofit Organization
REFRESH-INTERVAL;VALUE=DURATION:PT1H
X-Robots-Tag:noindex
X-PUBLISHED-TTL:PT1H
BEGIN:VTIMEZONE
TZID:UTC
BEGIN:STANDARD
TZOFFSETFROM:+0000
TZOFFSETTO:+0000
TZNAME:UTC
DTSTART:20250101T000000
END:STANDARD
END:VTIMEZONE
BEGIN:VEVENT
DTSTART;TZID=UTC:20260316T140000
DTEND;TZID=UTC:20260316T180000
DTSTAMP:20260425T162429
CREATED:20260316T144618Z
LAST-MODIFIED:20260316T145542Z
UID:10586-1773669600-1773684000@bvsj.org
SUMMARY:Breaking Into Entertainment: Veterans Career Panel.
DESCRIPTION:Breaking Into Entertainment: Veterans Career Panel. \nToday @ 2:00 PM EST. \nMeet Your Panelists: \n\nEddie Bright Jr. | Global CEO & Partner\, ApTask Global Workforce Solutions\nSean Charles | Manager\, Development & Original Production (Scripted)\, AMC Networks\nAngela Molloy | SVP\, Development & Original Production (Unscripted)\, AMC Networks\nMarc Hirschfeld | Lead Executive Consultant\, AMC Networks\nLacey Hardy | Casting Fellow\, Casting People of Color\, AMC Networks\nSheri Shafir | Director of Procurement and Supplier Diversity\, AMC Networks\n\nThese are decision makers and industry connectors. Come with your questions ready! \nAt the close of the session\, we will be building our official Veterans Resume Book. Your submission will go directly to AMC Networks executives and Eddie Bright Jr. at ApTask Global\, one of the leading recruiting firms for veteran talent in the country. \nIf you have been waiting for the right opportunity\, this is it! \nAll registered attendees will also receive 30 days of free streaming courtesy of AMC. \nSee you at 2:00 PM EST. Here is the meeting link! \nPresented by Black Veterans for Social Justice in partnership with AMC Networks\, through the Be Historic initiative.
URL:https://bvsj.org/event/breaking-into-entertainment-veterans-career-panel/
LOCATION:NY
CATEGORIES:BVSJ Event
ATTACH;FMTTYPE=image/jpeg:https://bvsj.org/wp-content/uploads/2026/03/unnamed.jpg
END:VEVENT
BEGIN:VEVENT
DTSTART;VALUE=DATE:20260509
DTEND;VALUE=DATE:20260510
DTSTAMP:20260425T162429
CREATED:20260303T165804Z
LAST-MODIFIED:20260304T105638Z
UID:10390-1778284800-1778371199@bvsj.org
SUMMARY:Veterans Everyday 5K Run/Walk
DESCRIPTION:
URL:https://bvsj.org/event/veterans-everyday-5k-run-walk/
LOCATION:NY
CATEGORIES:BVSJ Event
ATTACH;FMTTYPE=image/png:https://bvsj.org/wp-content/uploads/2026/03/05.10.25-6-x-9-in-Instagram-Post-45.png
END:VEVENT
BEGIN:VEVENT
DTSTART;VALUE=DATE:20260815
DTEND;VALUE=DATE:20260816
DTSTAMP:20260425T162429
CREATED:20260417T171407Z
LAST-MODIFIED:20260417T172811Z
UID:10676-1786752000-1786838399@bvsj.org
SUMMARY:A Night At The Oscar
DESCRIPTION:
URL:https://bvsj.org/event/a-night-at-the-oscar/
LOCATION:NY
CATEGORIES:BVSJ Event
ATTACH;FMTTYPE=image/png:https://bvsj.org/wp-content/uploads/2026/04/Red-and-Gold-Elegant-Grand-Opening-Invitation-5-x-7-in.png
END:VEVENT
END:VCALENDAR