BEGIN:VCALENDAR
VERSION:2.0
PRODID:-//Veteran Nonprofit Organization - ECPv6.15.19//NONSGML v1.0//EN
CALSCALE:GREGORIAN
METHOD:PUBLISH
X-WR-CALNAME:Veteran Nonprofit Organization
X-ORIGINAL-URL:https://bvsj.org
X-WR-CALDESC:Events for Veteran Nonprofit Organization
REFRESH-INTERVAL;VALUE=DURATION:PT1H
X-Robots-Tag:noindex
X-PUBLISHED-TTL:PT1H
BEGIN:VTIMEZONE
TZID:UTC
BEGIN:STANDARD
TZOFFSETFROM:+0000
TZOFFSETTO:+0000
TZNAME:UTC
DTSTART:20220101T000000
END:STANDARD
END:VTIMEZONE
BEGIN:VEVENT
DTSTART;TZID=UTC:20240527T113000
DTEND;TZID=UTC:20240527T130000
DTSTAMP:20260425T105603
CREATED:20240417T120219Z
LAST-MODIFIED:20240417T130553Z
UID:7593-1716809400-1716814800@bvsj.org
SUMMARY:Bedford Stuyvesant's 13th VETERANS MEMORIAL DAY PARADE AND STAND DOWN MEMORIAL DAY 2024
DESCRIPTION:Bedford Stuyvesant’s 13th\nVETERANS MEMORIAL DAY PARADE AND STAND DOWN \nMEMORIAL DAY 2024 MONDAY\, MAY 27TH \nCommemorating those who are serving\, those who have served and those who have lost their lives for this country. \nOPENING CEREMONY BEGINS \n11:30 am – Processional 12:00 pm \nRestoration Plaza 1368 Fulton Street\, Brooklyn\, NY 11216\nAmphitheater (Under Tent) \nFor further information\, or to arrange\nparticipation for yourself or your organization\,\nplease call BVSJ at (718) 852-6004\, Ext 221.
URL:https://bvsj.org/event/bedford-stuyvesants-13th-veterans-memorial-day-parade-and-stand-down-memorial-day-2024/
LOCATION:Restoration Plaza 1368 Fulton Street\, Brooklyn\, NY 11216 Amphitheater\, Restoration Plaza 1368 Fulton Street\, Brooklyn\, NY 11216 Amphitheater\, New York\, United States
CATEGORIES:BVSJ Event
ATTACH;FMTTYPE=image/jpeg:https://bvsj.org/wp-content/uploads/2024/04/Screenshot-2024-04-16-at-1.13.56-PM.jpeg
END:VEVENT
BEGIN:VEVENT
DTSTART;TZID=UTC:20231221T180000
DTEND;TZID=UTC:20231221T200000
DTSTAMP:20260425T105603
CREATED:20231122T112134Z
LAST-MODIFIED:20231209T164141Z
UID:5656-1703181600-1703188800@bvsj.org
SUMMARY:Kids Kwanzaa Celebration
DESCRIPTION:Kids Kwanzaa Celebration Walk Through \n\n\n\n\nDecember 21st\, 2023 6-8pm\n\n\n\n\n\nFood and beverages\nToys & Giveaways\nPictures with Santa
URL:https://bvsj.org/event/kids-kwanzaa-celebration/
LOCATION:NY
ATTACH;FMTTYPE=image/jpeg:https://bvsj.org/wp-content/uploads/2023/11/Kids-Kwanzaa-Flyer-2023-LB.jpg
END:VEVENT
BEGIN:VEVENT
DTSTART;TZID=UTC:20231217T150000
DTEND;TZID=UTC:20231217T210000
DTSTAMP:20260425T105603
CREATED:20231120T145852Z
LAST-MODIFIED:20231120T151417Z
UID:5626-1702825200-1702846800@bvsj.org
SUMMARY:New York Rep Presents: WAR WORDS
DESCRIPTION:PRICING\nCenter: $35.00\nHouse Back : $30.00\nPremium : $45.00 \nRUNNING TIME\nApproximately 90 min \nADDITIONAL INFORMATION\nAge Range\n16+ \nRefund/Exchange Policy\nAll sales are final. \nThis venue is a wheelchair accessible venue \nThis venue offers wheelchair accessible seating \nThis show has simulated gunshots \n 
URL:https://bvsj.org/event/new-york-rep-presents-war-words/
LOCATION:NY
ATTACH;FMTTYPE=image/jpeg:https://bvsj.org/wp-content/uploads/2023/11/WW-Poster-1080x10801-1.jpg
END:VEVENT
END:VCALENDAR