BEGIN:VCALENDAR
VERSION:2.0
PRODID:-//Veteran Nonprofit Organization - ECPv6.15.19//NONSGML v1.0//EN
CALSCALE:GREGORIAN
METHOD:PUBLISH
X-WR-CALNAME:Veteran Nonprofit Organization
X-ORIGINAL-URL:https://bvsj.org
X-WR-CALDESC:Events for Veteran Nonprofit Organization
REFRESH-INTERVAL;VALUE=DURATION:PT1H
X-Robots-Tag:noindex
X-PUBLISHED-TTL:PT1H
BEGIN:VTIMEZONE
TZID:UTC
BEGIN:STANDARD
TZOFFSETFROM:+0000
TZOFFSETTO:+0000
TZNAME:UTC
DTSTART:20240101T000000
END:STANDARD
END:VTIMEZONE
BEGIN:VEVENT
DTSTART;TZID=UTC:20251106T110000
DTEND;TZID=UTC:20251106T150000
DTSTAMP:20260423T121539
CREATED:20251030T134121Z
LAST-MODIFIED:20251030T141841Z
UID:9706-1762426800-1762441200@bvsj.org
SUMMARY:25 YEARS OF COLLABORATION WITH VETERAN PARTNERS
DESCRIPTION:
URL:https://bvsj.org/event/25-years-of-collaboration-with-veteran-partners/
LOCATION:665 WILLOUGHBY AVE\, 665 WILLOUGHBY AVE
CATEGORIES:BVSJ Event
ATTACH;FMTTYPE=image/png:https://bvsj.org/wp-content/uploads/2025/10/Beige-and-Pink-Illustrated-Coffee-Shop-Promo-Instagram-Post-1.png
END:VEVENT
BEGIN:VEVENT
DTSTART;TZID=UTC:20251106T180000
DTEND;TZID=UTC:20251106T180000
DTSTAMP:20260423T121539
CREATED:20251030T144044Z
LAST-MODIFIED:20251030T151133Z
UID:9739-1762452000-1762452000@bvsj.org
SUMMARY:Jackie Robinson and Black Military Service\, WWII to Today
DESCRIPTION:
URL:https://bvsj.org/event/jackie-robinson-and-black-military-service-wwii-to-today/
LOCATION:75 VARICK ST\, NYC
CATEGORIES:BVSJ Event
ATTACH;FMTTYPE=image/jpeg:https://bvsj.org/wp-content/uploads/2025/10/JRM_Veterans-Program-Flyer-8.5x11-v2.jpg
END:VEVENT
END:VCALENDAR