BEGIN:VCALENDAR
VERSION:2.0
PRODID:-//Veteran Nonprofit Organization - ECPv6.15.19//NONSGML v1.0//EN
CALSCALE:GREGORIAN
METHOD:PUBLISH
X-WR-CALNAME:Veteran Nonprofit Organization
X-ORIGINAL-URL:https://bvsj.org
X-WR-CALDESC:Events for Veteran Nonprofit Organization
REFRESH-INTERVAL;VALUE=DURATION:PT1H
X-Robots-Tag:noindex
X-PUBLISHED-TTL:PT1H
BEGIN:VTIMEZONE
TZID:UTC
BEGIN:STANDARD
TZOFFSETFROM:+0000
TZOFFSETTO:+0000
TZNAME:UTC
DTSTART:20240101T000000
END:STANDARD
END:VTIMEZONE
BEGIN:VEVENT
DTSTART;TZID=UTC:20250520T190000
DTEND;TZID=UTC:20250520T190000
DTSTAMP:20260425T104046
CREATED:20250519T152458Z
LAST-MODIFIED:20250522T110743Z
UID:9384-1747767600-1747767600@bvsj.org
SUMMARY:SECURING AI
DESCRIPTION:
URL:https://bvsj.org/event/securing-ai/
CATEGORIES:BVSJ Event
ATTACH;FMTTYPE=image/jpeg:https://bvsj.org/wp-content/uploads/2025/05/IMG_7241.jpg
END:VEVENT
END:VCALENDAR